BEGIN:VCALENDAR
VERSION:2.0
PRODID:-//eventon.com NONSGML v1.0//EN
CALSCALE:GREGORIAN
METHOD:PUBLISH
BEGIN:VEVENT
UID:69e73b52dc58b
DTSTAMP:20260421T085442Z
DTSTART:20250620T160000Z
DTEND:20250620T173000Z
LOCATION:Praxis Energiebalance-Lichtherz Emil Raab-Straße 23\,  Baden
SUMMARY:Freier Kreativer Tanz
DESCRIPTION:&nbsp; &nbsp; &nbsp;\nhttps://www.energiebalance-lichtherz.at/e
 vents/freier-kreativer-tanz-3/
URL:https://www.energiebalance-lichtherz.at/events/freier-kreativer-tanz-3/
END:VEVENT
END:VCALENDAR