BEGIN:VCALENDAR
VERSION:2.0
PRODID:-//eventon.com NONSGML v1.0//EN
CALSCALE:GREGORIAN
METHOD:PUBLISH
BEGIN:VEVENT
UID:69e73d9fdfe74
DTSTAMP:20260421T090431Z
DTSTART:20260307T130000Z
DTEND:20260307T180000Z
LOCATION:Praxis Energiebalance-Lichtherz Emil Raab-Straße 23\,  Baden
SUMMARY:"Kurs in Geistesschulung"
DESCRIPTION:€ 50 inkl. Skriptum KIW &#8211; Einladung 2024 &nbsp; &nbsp;\
 nhttps://www.energiebalance-lichtherz.at/events/kurs-in-geistesschulung-2/
URL:https://www.energiebalance-lichtherz.at/events/kurs-in-geistesschulung-2/
END:VEVENT
END:VCALENDAR