BEGIN:VCALENDAR
VERSION:2.0
PRODID:-//eventon.com NONSGML v1.0//EN
CALSCALE:GREGORIAN
METHOD:PUBLISH
BEGIN:VEVENT
UID:69e74dae2b465
DTSTAMP:20260421T101302Z
DTSTART:20260410T120000Z
DTEND:20260410T170000Z
LOCATION:Praxis Energiebalance-Lichtherz Emil Raab-Straße 23\,  Baden
SUMMARY:"Kurs in Geistesschulung"
DESCRIPTION:€ 50 inkl. Skriptum KIW &#8211; Einladung 2024 &nbsp; &nbsp;\
 nhttps://www.energiebalance-lichtherz.at/events/kurs-in-geistesschulung/
URL:https://www.energiebalance-lichtherz.at/events/kurs-in-geistesschulung/
END:VEVENT
END:VCALENDAR